BEGIN:VCALENDAR
VERSION:2.0
PRODID:-//pretix//pretix.eu//
BEGIN:VTIMEZONE
TZID:Europe/Berlin
BEGIN:STANDARD
DTSTART:20001029T040000
RRULE:FREQ=YEARLY;BYDAY=-1SU;BYMONTH=10
TZNAME:CET
TZOFFSETFROM:+0200
TZOFFSETTO:+0100
END:STANDARD
BEGIN:DAYLIGHT
DTSTART:20000326T030000
RRULE:FREQ=YEARLY;BYDAY=-1SU;BYMONTH=3
TZNAME:CEST
TZOFFSETFROM:+0100
TZOFFSETTO:+0200
END:DAYLIGHT
END:VTIMEZONE
BEGIN:VEVENT
UID:pretix-dpmclub-elena26bln-0@ticket.deputamadreclub.eu
DTSTART;TZID=Europe/Berlin:20260710T200000
DTEND;TZID=Europe/Berlin:20260710T210000
DESCRIPTION:Tickets: https://ticket.deputamadreclub.eu/elena26bln/\nOrganiz
 er: dpm tickets
DTSTAMP:20260421T123542Z
LOCATION:Festsaal Kreuzberg\, Am Flutgraben 2\, 12435 Berlin\, Germany
SUMMARY:Elena Rose |  Festsaal Kreuzberg - Berlin | Fri\, July 10\, 2026 | 
 Tickets
END:VEVENT
END:VCALENDAR
